BEGIN:VCALENDAR
VERSION:2.0
PRODID:-//hacksw/handcal//NONSGML v1.0//EN
BEGIN:VEVENT
SUMMARY:Equip'athle Tour Printanier U16
UID:8be2f715-b948-4036-acbf-37546fea3634
DTSTART:20260425T220000Z
DTEND:20260426T220000Z
LOCATION:Localisation VELODROME  BORDEAUX LAC
CATEGORIES:Sportif
STATUS:
URL;VALUE=URI:https://acsm-33-athle.sportsregions.fr/evenements/2026/04/26/equipathle-tour-printanier-u16-2429684
END:VEVENT
END:VCALENDAR
