BEGIN:VCALENDAR
VERSION:2.0
PRODID:-//hacksw/handcal//NONSGML v1.0//EN
BEGIN:VEVENT
SUMMARY:Equip'athle Tour Printanier U14
UID:c0e77d56-6c1a-4f86-8e02-495c933a4a5b
DTSTART:20260424T220000Z
DTEND:20260425T220000Z
LOCATION:Localisation   bruges
CATEGORIES:Sportif
STATUS:
URL;VALUE=URI:https://acsm-33-athle.sportsregions.fr/evenements/2026/04/25/equipathle-tour-printanier-u14-2429683
END:VEVENT
END:VCALENDAR
