BEGIN:VCALENDAR
VERSION:2.0
PRODID:-//hacksw/handcal//NONSGML v1.0//EN
BEGIN:VEVENT
SUMMARY:Criterium Estival Gironde U14
UID:fd05689c-3c8f-4526-a47f-00c572f8948c
DTSTART:20260328T230000Z
DTEND:20260329T230000Z
LOCATION:Localisation   talence
CATEGORIES:Sportif
STATUS:
URL;VALUE=URI:https://acsm-33-athle.sportsregions.fr/evenements/2026/03/29/criterium-estival-gironde-u14-2429619
END:VEVENT
END:VCALENDAR
