BEGIN:VCALENDAR
VERSION:2.0
PRODID:-//hacksw/handcal//NONSGML v1.0//EN
BEGIN:VEVENT
SUMMARY:Foulees Solidaires
UID:e2bfde9b-b7a3-4421-b6c4-326bf7f9956f
DTSTART:20260320T230000Z
DTEND:20260321T230000Z
LOCATION:Localisation   TALENCE
CATEGORIES:Sportif
STATUS:
DESCRIPTION:<h1>Foulees solidaires au stade Pierre-Paul
 Bernard</h1>
 
 <p><strong>Le samedi 21 mars prochain, le stade
 Pierre-Paul Bernard accueillera la premiere edition d’une course
 solidaire en relais : du sport, de la solidarite et de la bonne
 humeur !</strong></p>
 
 <p>Courir, marcher, se depasser… et surtout
 vivre ensemble un moment de solidarite et de convivialite en famille,
 entre amis. Une matinee de courses en relais, voila ce que propose
 l<strong>’US Talence Athletisme.</strong></p>
 
 <p>Les fonds
 collectes seront integralement reverses a la
 section <strong>Activite Physique Adaptee</strong> (APA) de
 l’U.S. Talence Athletisme, qui accompagne chaque annee pres de 100
 personnes atteintes d’affections longue duree (cancer, maladie
 cardio-vasculaires, diabete, etc…).</p>
 
 <p>Cette activite,
 encadree par une enseignante APA, specialisee en oncologie, aide ces
 personnes a garder un lien social et participe a leur bien-etre
 physique et a leur parcours de soin en les aidant a se reapproprier
 leur corps.</p>
 
 <p>Les patients en temoignent : « l’APA m’aide
 a mieux supporter les effets secondaires des traitements, j’ai pu
 reprendre une vie sociale avec des personnes qui me comprennent
 ».</p>
 
 <p>Face a la reduction des subventions publiques, cette
 action solidaire est essentielle pour maintenir ce
 dispositif. <strong>Venez soutenir une cause qui nous concerne
 tous !</strong></p>
 
 <p><strong>Formez des equipes de 2 a 4
 relayeurs avec vos enfants, vos amis, vos
 collegues.</strong></p>
 
 <h4><strong>PROGRAMME</strong></h4>
 
 <p><strong>🏃
 Courses enfants, jeunes et
 adultes</strong></p>
 
 <ul>
 	<li><strong>10h00</strong> : a partir de
 3 ans, jeunes et adultes – <em>4×400
 m</em></li>
 	<li><strong>10h30</strong> : a partir de 9 ans, jeunes
 et adultes – <em>4×800
 m</em></li>
 </ul>
 
 <p><strong>🏃‍♂️ Courses jeunes et
 adultes</strong></p>
 
 <ul>
 	<li><strong>11h15</strong> : Course 15
 ans et +, adultes – <em>Relais 4×1600
 m</em></li>
 	<li><strong>12h15</strong> : Marche / Marche nordique
 adultes – <em>Relais 4×1600 m</em></li>
 </ul>
 
 <p><strong>📝
 Inscriptions</strong></p>
 
 <ul>
 	<li>En ligne
 jusqu’au <strong>VENDREDI 20 MARS</strong></li>
 	<li>Sur place :
 minimum 30 min avant</li>
 	<li>Tarif : 5 € par enfant / 10 € par
 adulte (+ 15
 ans)</li>
 </ul>
 
 <p><strong>☕ </strong><strong>Buvette sur
 place</strong></p>
 
 <p><strong>VENEZ RELEVER LE
 DEFI !</strong></p>
 
 <p><strong>Si vous ne pouvez etre present, vous
 pouvez faire un don sur le lien des inscriptions.</strong></p>
URL;VALUE=URI:https://acsm-33-athle.sportsregions.fr/evenements/2026/03/21/foulees-solidaires-2429597
END:VEVENT
END:VCALENDAR
