BEGIN:VCALENDAR
VERSION:2.0
PRODID:-//hacksw/handcal//NONSGML v1.0//EN
BEGIN:VEVENT
SUMMARY:Meeting Marche Athletique - Us Bazas-
UID:9ddd41fa-b2fc-4e46-9df9-aef95b8c2fb2
DTSTART:20260313T230000Z
DTEND:20260314T230000Z
LOCATION:Localisation   bazas
CATEGORIES:Sportif
STATUS:
URL;VALUE=URI:https://acsm-33-athle.sportsregions.fr/evenements/2026/03/14/meeting-marche-athletique-us-bazas-2429651
END:VEVENT
END:VCALENDAR
