BEGIN:VCALENDAR
VERSION:2.0
PRODID:-//hacksw/handcal//NONSGML v1.0//EN
BEGIN:VEVENT
SUMMARY:Intercomites U14-U16 Lana
UID:1468dc8c-00e5-4492-be6a-bae74c710c68
DTSTART:20260313T230000Z
DTEND:20260314T230000Z
LOCATION:Localisation velodrome  BORDEAUX LAC
CATEGORIES:Sportif
STATUS:
URL;VALUE=URI:https://acsm-33-athle.sportsregions.fr/evenements/2026/03/14/intercomites-u14-u16-lana-2429652
END:VEVENT
END:VCALENDAR
