BEGIN:VCALENDAR
VERSION:2.0
PRODID:-//hacksw/handcal//NONSGML v1.0//EN
BEGIN:VEVENT
SUMMARY:7 eMe Edition Trail Urbain De Bassens
UID:9c3ea667-cfdb-4124-ae36-f62c0f7c9446
DTSTART:20260313T230000Z
DTEND:20260314T230000Z
LOCATION:Localisation   bassens
CATEGORIES:Sportif
STATUS:
URL;VALUE=URI:https://acsm-33-athle.sportsregions.fr/evenements/2026/03/14/7-eme-edition-trail-urbain-de-bassens-2437891
END:VEVENT
END:VCALENDAR
